BEGIN:VCALENDAR
VERSION:2.0
PRODID:-//The Joseph Priestley House - ECPv6.15.15//NONSGML v1.0//EN
CALSCALE:GREGORIAN
METHOD:PUBLISH
X-WR-CALNAME:The Joseph Priestley House
X-ORIGINAL-URL:https://joseph-priestley-house.org
X-WR-CALDESC:Events for The Joseph Priestley House
REFRESH-INTERVAL;VALUE=DURATION:PT1H
X-Robots-Tag:noindex
X-PUBLISHED-TTL:PT1H
BEGIN:VTIMEZONE
TZID:UTC
BEGIN:STANDARD
TZOFFSETFROM:+0000
TZOFFSETTO:+0000
TZNAME:UTC
DTSTART:20230101T000000
END:STANDARD
END:VTIMEZONE
BEGIN:VEVENT
DTSTART;TZID=UTC:20240825T150000
DTEND;TZID=UTC:20240825T160000
DTSTAMP:20260421T132321
CREATED:20240820T152414Z
LAST-MODIFIED:20240820T152414Z
UID:6976-1724598000-1724601600@joseph-priestley-house.org
SUMMARY:Tour 3 (Sunday 3pm)
DESCRIPTION:Tours are offered Saturday and Sunday between the hours of 1 pm\, 2 pm\, and 3 pm \n\nAdult (12-64 years): $8.00\nSeniors\, AAA\, Veterans: $6.00\nYouth (3-11): $4.00\nEBT: $2.00\nMembers: Free\nActive Military and Immediate Family: Free\nMembers PA Heritage Foundation: Free
URL:https://joseph-priestley-house.org/event/tour-3-sunday-3pm-4/
CATEGORIES:tour event
ATTACH;FMTTYPE=image/png:https://joseph-priestley-house.org/wp-content/uploads/2024/07/Tour3.png
END:VEVENT
BEGIN:VEVENT
DTSTART;TZID=UTC:20240825T140000
DTEND;TZID=UTC:20240825T150000
DTSTAMP:20260421T132321
CREATED:20240820T151235Z
LAST-MODIFIED:20240820T151235Z
UID:6967-1724594400-1724598000@joseph-priestley-house.org
SUMMARY:Tour 2 (Sunday 2pm)
DESCRIPTION:Tours are offered Saturday and Sunday between the hours of 1 pm\, 2 pm\, and 3 pm \n\nAdult (12-64 years): $8.00\nSeniors\, AAA\, Veterans: $6.00\nYouth (3-11): $4.00\nEBT: $2.00\nMembers: Free\nActive Military and Immediate Family: Free\nMembers PA Heritage Foundation: Free
URL:https://joseph-priestley-house.org/event/tour-2-sunday-2pm-4/
CATEGORIES:tour event
ATTACH;FMTTYPE=image/png:https://joseph-priestley-house.org/wp-content/uploads/2024/07/Tour2.png
END:VEVENT
BEGIN:VEVENT
DTSTART;TZID=UTC:20240825T130000
DTEND;TZID=UTC:20240825T140000
DTSTAMP:20260421T132321
CREATED:20240820T150124Z
LAST-MODIFIED:20240820T150124Z
UID:6958-1724590800-1724594400@joseph-priestley-house.org
SUMMARY:Tour 1 (Sunday 1pm)
DESCRIPTION:Tours are offered Saturday and Sunday between the hours of 1 pm\, 2 pm\, and 3 pm \n\nAdult (12-64 years): $8.00\nSeniors\, AAA\, Veterans: $6.00\nYouth (3-11): $4.00\nEBT: $2.00\nMembers: Free\nActive Military and Immediate Family: Free\nMembers PA Heritage Foundation: Free
URL:https://joseph-priestley-house.org/event/tour-1-sunday-1pm-4/
CATEGORIES:tour event
ATTACH;FMTTYPE=image/png:https://joseph-priestley-house.org/wp-content/uploads/2024/05/Tour-post-2.png
END:VEVENT
BEGIN:VEVENT
DTSTART;TZID=UTC:20240824T150000
DTEND;TZID=UTC:20240824T160000
DTSTAMP:20260421T132321
CREATED:20240820T144920Z
LAST-MODIFIED:20240820T144920Z
UID:6949-1724511600-1724515200@joseph-priestley-house.org
SUMMARY:Tour 3 (Saturday 3pm)
DESCRIPTION:Tours are offered Saturday and Sunday between the hours of 1 pm\, 2 pm\, and 3 pm \n\nAdult (12-64 years): $8.00\nSeniors\, AAA\, Veterans: $6.00\nYouth (3-11): $4.00\nEBT: $2.00\nMembers: Free\nActive Military and Immediate Family: Free\nMembers PA Heritage Foundation: Free
URL:https://joseph-priestley-house.org/event/tour-3-saturday-3pm-4/
CATEGORIES:tour event
ATTACH;FMTTYPE=image/png:https://joseph-priestley-house.org/wp-content/uploads/2024/07/Tour3.png
END:VEVENT
BEGIN:VEVENT
DTSTART;TZID=UTC:20240824T140000
DTEND;TZID=UTC:20240824T150000
DTSTAMP:20260421T132321
CREATED:20240820T143758Z
LAST-MODIFIED:20240820T143758Z
UID:6940-1724508000-1724511600@joseph-priestley-house.org
SUMMARY:Tour 2 (Saturday 2pm)
DESCRIPTION:Tours are offered Saturday and Sunday between the hours of 1 pm\, 2 pm\, and 3 pm \n\nAdult (12-64 years): $8.00\nSeniors\, AAA\, Veterans: $6.00\nYouth (3-11): $4.00\nEBT: $2.00\nMembers: Free\nActive Military and Immediate Family: Free\nMembers PA Heritage Foundation: Free
URL:https://joseph-priestley-house.org/event/tour-2-saturday-2pm-4/
CATEGORIES:tour event
ATTACH;FMTTYPE=image/png:https://joseph-priestley-house.org/wp-content/uploads/2024/07/Tour2.png
END:VEVENT
BEGIN:VEVENT
DTSTART;TZID=UTC:20240824T130000
DTEND;TZID=UTC:20240824T140000
DTSTAMP:20260421T132321
CREATED:20240820T142519Z
LAST-MODIFIED:20240820T142519Z
UID:6931-1724504400-1724508000@joseph-priestley-house.org
SUMMARY:Tour 1 (Saturday 1pm)
DESCRIPTION:Tours are offered Saturday and Sunday between the hours of 1 pm\, 2 pm\, and 3 pm \n\nAdult (12-64 years): $8.00\nSeniors\, AAA\, Veterans: $6.00\nYouth (3-11): $4.00\nEBT: $2.00\nMembers: Free\nActive Military and Immediate Family: Free\nMembers PA Heritage Foundation: Free
URL:https://joseph-priestley-house.org/event/tour-1-saturday-1pm-4/
CATEGORIES:tour event
ATTACH;FMTTYPE=image/png:https://joseph-priestley-house.org/wp-content/uploads/2024/05/Tour-post-2.png
END:VEVENT
BEGIN:VEVENT
DTSTART;TZID=UTC:20240818T150000
DTEND;TZID=UTC:20240818T160000
DTSTAMP:20260421T132321
CREATED:20240813T110149Z
LAST-MODIFIED:20240816T112940Z
UID:6905-1723993200-1723996800@joseph-priestley-house.org
SUMMARY:Tour 3 (Sunday 3pm)
DESCRIPTION:Tours are offered Saturday and Sunday between the hours of 1 pm\, 2 pm\, and 3 pm \n\nAdult (12-64 years): $8.00\nSeniors\, AAA\, Veterans: $6.00\nYouth (3-11): $4.00\nEBT: $2.00\nMembers: Free\nActive Military and Immediate Family: Free\nMembers PA Heritage Foundation: Free
URL:https://joseph-priestley-house.org/event/tour-3-sunday-3pm-3/
CATEGORIES:tour event
ATTACH;FMTTYPE=image/png:https://joseph-priestley-house.org/wp-content/uploads/2024/07/Tour3.png
END:VEVENT
BEGIN:VEVENT
DTSTART;TZID=UTC:20240818T140000
DTEND;TZID=UTC:20240818T150000
DTSTAMP:20260421T132321
CREATED:20240813T105150Z
LAST-MODIFIED:20240813T105150Z
UID:6896-1723989600-1723993200@joseph-priestley-house.org
SUMMARY:Tour 2 (Sunday 2pm)
DESCRIPTION:Tours are offered Saturday and Sunday between the hours of 1 pm\, 2 pm\, and 3 pm \n\nAdult (12-64 years): $8.00\nSeniors\, AAA\, Veterans: $6.00\nYouth (3-11): $4.00\nEBT: $2.00\nMembers: Free\nActive Military and Immediate Family: Free\nMembers PA Heritage Foundation: Free
URL:https://joseph-priestley-house.org/event/tour-2-sunday-2pm-3/
CATEGORIES:tour event
ATTACH;FMTTYPE=image/png:https://joseph-priestley-house.org/wp-content/uploads/2024/07/Tour2.png
END:VEVENT
BEGIN:VEVENT
DTSTART;TZID=UTC:20240818T130000
DTEND;TZID=UTC:20240818T140000
DTSTAMP:20260421T132321
CREATED:20240813T104106Z
LAST-MODIFIED:20240813T104106Z
UID:6887-1723986000-1723989600@joseph-priestley-house.org
SUMMARY:Tour 1 (Sunday 1pm)
DESCRIPTION:Tours are offered Saturday and Sunday between the hours of 1 pm\, 2 pm\, and 3 pm \n\nAdult (12-64 years): $8.00\nSeniors\, AAA\, Veterans: $6.00\nYouth (3-11): $4.00\nEBT: $2.00\nMembers: Free\nActive Military and Immediate Family: Free\nMembers PA Heritage Foundation: Free
URL:https://joseph-priestley-house.org/event/tour-1-sunday-1pm-3/
CATEGORIES:tour event
ATTACH;FMTTYPE=image/png:https://joseph-priestley-house.org/wp-content/uploads/2024/05/Tour-post-2.png
END:VEVENT
BEGIN:VEVENT
DTSTART;TZID=UTC:20240817T150000
DTEND;TZID=UTC:20240817T160000
DTSTAMP:20260421T132321
CREATED:20240813T103102Z
LAST-MODIFIED:20240813T103102Z
UID:6878-1723906800-1723910400@joseph-priestley-house.org
SUMMARY:Tour 3 (Saturday 3pm)
DESCRIPTION:Tours are offered Saturday and Sunday between the hours of 1 pm\, 2 pm\, and 3 pm \n\nAdult (12-64 years): $8.00\nSeniors\, AAA\, Veterans: $6.00\nYouth (3-11): $4.00\nEBT: $2.00\nMembers: Free\nActive Military and Immediate Family: Free\nMembers PA Heritage Foundation: Free
URL:https://joseph-priestley-house.org/event/tour-3-saturday-3pm-3/
CATEGORIES:tour event
ATTACH;FMTTYPE=image/png:https://joseph-priestley-house.org/wp-content/uploads/2024/07/Tour3.png
END:VEVENT
BEGIN:VEVENT
DTSTART;TZID=UTC:20240817T140000
DTEND;TZID=UTC:20240817T150000
DTSTAMP:20260421T132321
CREATED:20240813T102006Z
LAST-MODIFIED:20240813T102006Z
UID:6867-1723903200-1723906800@joseph-priestley-house.org
SUMMARY:Tour 2 (Saturday 2pm)
DESCRIPTION:Tours are offered Saturday and Sunday between the hours of 1 pm\, 2 pm\, and 3 pm \n\nAdult (12-64 years): $8.00\nSeniors\, AAA\, Veterans: $6.00\nYouth (3-11): $4.00\nEBT: $2.00\nMembers: Free\nActive Military and Immediate Family: Free\nMembers PA Heritage Foundation: Free
URL:https://joseph-priestley-house.org/event/tour-2-saturday-2pm-3/
CATEGORIES:tour event
ATTACH;FMTTYPE=image/png:https://joseph-priestley-house.org/wp-content/uploads/2024/07/Tour2.png
END:VEVENT
BEGIN:VEVENT
DTSTART;TZID=UTC:20240817T130000
DTEND;TZID=UTC:20240817T140000
DTSTAMP:20260421T132321
CREATED:20240813T100420Z
LAST-MODIFIED:20240813T100420Z
UID:6858-1723899600-1723903200@joseph-priestley-house.org
SUMMARY:Tour 1 (Saturday 1pm)
DESCRIPTION:Tours are offered Saturday and Sunday between the hours of 1 pm\, 2 pm\, and 3 pm \n\nAdult (12-64 years): $8.00\nSeniors\, AAA\, Veterans: $6.00\nYouth (3-11): $4.00\nEBT: $2.00\nMembers: Free\nActive Military and Immediate Family: Free\nMembers PA Heritage Foundation: Free
URL:https://joseph-priestley-house.org/event/tour-1-saturday-1pm-3/
CATEGORIES:tour event
ATTACH;FMTTYPE=image/png:https://joseph-priestley-house.org/wp-content/uploads/2024/05/Tour-post-2.png
END:VEVENT
BEGIN:VEVENT
DTSTART;TZID=UTC:20240811T150000
DTEND;TZID=UTC:20240811T160000
DTSTAMP:20260421T132321
CREATED:20240808T155642Z
LAST-MODIFIED:20240808T155642Z
UID:6831-1723388400-1723392000@joseph-priestley-house.org
SUMMARY:Tour 3 (Sunday 3pm)
DESCRIPTION:Tours are offered Saturday and Sunday between the hours of 1 pm\, 2 pm\, and 3 pm \n\nAdult (12-64 years): $8.00\nSeniors\, AAA\, Veterans: $6.00\nYouth (3-11): $4.00\nEBT: $2.00\nMembers: Free\nActive Military and Immediate Family: Free\nMembers PA Heritage Foundation: Free
URL:https://joseph-priestley-house.org/event/tour-3-sunday-3pm-2/
CATEGORIES:tour event
ATTACH;FMTTYPE=image/png:https://joseph-priestley-house.org/wp-content/uploads/2024/07/Tour3.png
END:VEVENT
BEGIN:VEVENT
DTSTART;TZID=UTC:20240811T140000
DTEND;TZID=UTC:20240811T150000
DTSTAMP:20260421T132321
CREATED:20240808T154744Z
LAST-MODIFIED:20240808T154744Z
UID:6822-1723384800-1723388400@joseph-priestley-house.org
SUMMARY:Tour 2 (Sunday 2pm)
DESCRIPTION:Tours are offered Saturday and Sunday between the hours of 1 pm\, 2 pm\, and 3 pm \n\nAdult (12-64 years): $8.00\nSeniors\, AAA\, Veterans: $6.00\nYouth (3-11): $4.00\nEBT: $2.00\nMembers: Free\nActive Military and Immediate Family: Free\nMembers PA Heritage Foundation: Free
URL:https://joseph-priestley-house.org/event/tour-2-sunday-2pm-2/
CATEGORIES:tour event
ATTACH;FMTTYPE=image/png:https://joseph-priestley-house.org/wp-content/uploads/2024/07/Tour2.png
END:VEVENT
BEGIN:VEVENT
DTSTART;TZID=UTC:20240811T130000
DTEND;TZID=UTC:20240811T140000
DTSTAMP:20260421T132321
CREATED:20240808T153534Z
LAST-MODIFIED:20240808T153534Z
UID:6813-1723381200-1723384800@joseph-priestley-house.org
SUMMARY:Tour 1 (Sunday 1pm)
DESCRIPTION:Tours are offered Saturday and Sunday between the hours of 1 pm\, 2 pm\, and 3 pm \n\nAdult (12-64 years): $8.00\nSeniors\, AAA\, Veterans: $6.00\nYouth (3-11): $4.00\nEBT: $2.00\nMembers: Free\nActive Military and Immediate Family: Free\nMembers PA Heritage Foundation: Free
URL:https://joseph-priestley-house.org/event/tour-1-sunday-1pm-2/
CATEGORIES:tour event
ATTACH;FMTTYPE=image/png:https://joseph-priestley-house.org/wp-content/uploads/2024/05/Tour-post-2.png
END:VEVENT
BEGIN:VEVENT
DTSTART;TZID=UTC:20240810T150000
DTEND;TZID=UTC:20240810T160000
DTSTAMP:20260421T132321
CREATED:20240808T151649Z
LAST-MODIFIED:20240808T151649Z
UID:6804-1723302000-1723305600@joseph-priestley-house.org
SUMMARY:Tour 3  (Saturday 3pm)
DESCRIPTION:Tours are offered Saturday and Sunday between the hours of 1 pm\, 2 pm\, and 3 pm \n\nAdult (12-64 years): $8.00\nSeniors\, AAA\, Veterans: $6.00\nYouth (3-11): $4.00\nEBT: $2.00\nMembers: Free\nActive Military and Immediate Family: Free\nMembers PA Heritage Foundation: Free
URL:https://joseph-priestley-house.org/event/tour-3-saturday-3pm-2/
CATEGORIES:tour event
ATTACH;FMTTYPE=image/png:https://joseph-priestley-house.org/wp-content/uploads/2024/07/Tour3.png
END:VEVENT
BEGIN:VEVENT
DTSTART;TZID=UTC:20240810T140000
DTEND;TZID=UTC:20240810T150000
DTSTAMP:20260421T132321
CREATED:20240808T150638Z
LAST-MODIFIED:20240808T150638Z
UID:6795-1723298400-1723302000@joseph-priestley-house.org
SUMMARY:Tour 2  (Saturday 2pm)
DESCRIPTION:Tours are offered Saturday and Sunday between the hours of 1 pm\, 2 pm\, and 3 pm \n\nAdult (12-64 years): $8.00\nSeniors\, AAA\, Veterans: $6.00\nYouth (3-11): $4.00\nEBT: $2.00\nMembers: Free\nActive Military and Immediate Family: Free\nMembers PA Heritage Foundation: Free
URL:https://joseph-priestley-house.org/event/tour-2-saturday-2pm-2/
CATEGORIES:tour event
ATTACH;FMTTYPE=image/png:https://joseph-priestley-house.org/wp-content/uploads/2024/07/Tour2.png
END:VEVENT
BEGIN:VEVENT
DTSTART;TZID=UTC:20240810T130000
DTEND;TZID=UTC:20240810T140000
DTSTAMP:20260421T132321
CREATED:20240808T145607Z
LAST-MODIFIED:20240808T145607Z
UID:6785-1723294800-1723298400@joseph-priestley-house.org
SUMMARY:Tour 1 (Saturday 1pm)
DESCRIPTION:Tours are offered Saturday and Sunday between the hours of 1 pm\, 2 pm\, and 3 pm \n\nAdult (12-64 years): $8.00\nSeniors\, AAA\, Veterans: $6.00\nYouth (3-11): $4.00\nEBT: $2.00\nMembers: Free\nActive Military and Immediate Family: Free\nMembers PA Heritage Foundation: Free
URL:https://joseph-priestley-house.org/event/tour-1-saturday-1pm-2/
CATEGORIES:tour event
ATTACH;FMTTYPE=image/png:https://joseph-priestley-house.org/wp-content/uploads/2024/05/Tour-post-2.png
END:VEVENT
BEGIN:VEVENT
DTSTART;TZID=UTC:20240804T150000
DTEND;TZID=UTC:20240804T160000
DTSTAMP:20260421T132321
CREATED:20240731T140629Z
LAST-MODIFIED:20240802T101256Z
UID:6733-1722783600-1722787200@joseph-priestley-house.org
SUMMARY:Tour 3 (Sunday 3pm)
DESCRIPTION:Tours are offered Saturday and Sunday between the hours of 1 pm\, 2 pm\, and 3 pm \n\nAdult (12-64 years): $8.00\nSeniors\, AAA\, Veterans: $6.00\nYouth (3-11): $4.00\nEBT: $2.00\nMembers: Free\nActive Military and Immediate Family: Free\nMembers PA Heritage Foundation: Free
URL:https://joseph-priestley-house.org/event/tour-3-sunday-3pm/
CATEGORIES:tour event
ATTACH;FMTTYPE=image/png:https://joseph-priestley-house.org/wp-content/uploads/2024/07/Tour3.png
END:VEVENT
BEGIN:VEVENT
DTSTART;TZID=UTC:20240804T140000
DTEND;TZID=UTC:20240804T150000
DTSTAMP:20260421T132321
CREATED:20240731T135451Z
LAST-MODIFIED:20240802T101358Z
UID:6724-1722780000-1722783600@joseph-priestley-house.org
SUMMARY:Tour 2  (Sunday 2pm)
DESCRIPTION:Tours are offered Saturday and Sunday between the hours of 1 pm\, 2 pm\, and 3 pm \n\nAdult (12-64 years): $8.00\nSeniors\, AAA\, Veterans: $6.00\nYouth (3-11): $4.00\nEBT: $2.00\nMembers: Free\nActive Military and Immediate Family: Free\nMembers PA Heritage Foundation: Free
URL:https://joseph-priestley-house.org/event/tour-2-sunday-2pm/
CATEGORIES:tour event
ATTACH;FMTTYPE=image/png:https://joseph-priestley-house.org/wp-content/uploads/2024/07/Tour2.png
END:VEVENT
BEGIN:VEVENT
DTSTART;TZID=UTC:20240804T130000
DTEND;TZID=UTC:20240804T140000
DTSTAMP:20260421T132321
CREATED:20240731T134332Z
LAST-MODIFIED:20240802T101251Z
UID:6714-1722776400-1722780000@joseph-priestley-house.org
SUMMARY:Tour 1 (Sunday 1pm)
DESCRIPTION:Tours are offered Saturday and Sunday between the hours of 1 pm\, 2 pm\, and 3 pm \n\nAdult (12-64 years): $8.00\nSeniors\, AAA\, Veterans: $6.00\nYouth (3-11): $4.00\nEBT: $2.00\nMembers: Free\nActive Military and Immediate Family: Free\nMembers PA Heritage Foundation: Free
URL:https://joseph-priestley-house.org/event/tour-1-sunday-1pm/
CATEGORIES:tour event
ATTACH;FMTTYPE=image/png:https://joseph-priestley-house.org/wp-content/uploads/2024/05/Tour-post-2.png
END:VEVENT
BEGIN:VEVENT
DTSTART;TZID=UTC:20240804T113000
DTEND;TZID=UTC:20240804T160000
DTSTAMP:20260421T132321
CREATED:20240715T150209Z
LAST-MODIFIED:20240716T143157Z
UID:6547-1722771000-1722787200@joseph-priestley-house.org
SUMMARY:Oxygen Day in the Garden: Special 250th Anniversary Celebration!
DESCRIPTION:This is a FREE event\, and Kid-centered outdoor activities will begin at 11:30am with light refreshments.\n\nOn Sunday the museum will host its annual Oxygen Day Garden Party. The museum will open for tours beginning at 1 pm\, with special indoor music in the front room (across from the library) provided by Fred Hooper\, piano and Broderick Lesher\, violin from 1:30-3:30 pm. On the grounds\, visitors can interact with a Brewmeister\, who demonstrates the brewing of beer as it would have been done during Priestley’s time\, and listen to the music of fiddler Beverley Conrad. At 1:30 pm and again at 3:30 pm in the Pond Building\, Dr. Priestley\, portrayed by Ron Blatchley\, will demonstrate science experiments using equipment common during Priestley’s lifetime. A tribute to the American Chemical Society and special recognition of Rory Arne Olofson\, Phd retired professor of Chemistry\, Penn State University. There is no charge for Sunday’s events\, although anyone wishing to attend the science demonstrations must get tickets in the Visitors Center\, because seating is limited.
URL:https://joseph-priestley-house.org/event/oxygen-day-in-the-garden-special-250th-anniversary-celebration/
LOCATION:Joseph Priestley House Museum\, 472 Priestley Ave\, Northumberland\, PA\, 17857\, United States
CATEGORIES:event
ATTACH;FMTTYPE=image/png:https://joseph-priestley-house.org/wp-content/uploads/2024/07/Oxygen-Day-4.png
ORGANIZER;CN="Friends of Joseph Priestley House":MAILTO:jphopsmanager@gmail.com
END:VEVENT
BEGIN:VEVENT
DTSTART;TZID=UTC:20240803T150000
DTEND;TZID=UTC:20240803T160000
DTSTAMP:20260421T132321
CREATED:20240731T131823Z
LAST-MODIFIED:20240802T100848Z
UID:6705-1722697200-1722700800@joseph-priestley-house.org
SUMMARY:Tour 3 (Saturday 3pm)
DESCRIPTION:Tours are offered Saturday and Sunday between the hours of 1 pm\, 2 pm\, and 3 pm \n\nAdult (12-64 years): $8.00\nSeniors\, AAA\, Veterans: $6.00\nYouth (3-11): $4.00\nEBT: $2.00\nMembers: Free\nActive Military and Immediate Family: Free\nMembers PA Heritage Foundation: Free
URL:https://joseph-priestley-house.org/event/tour-3-saturday-3pm/
CATEGORIES:tour event
ATTACH;FMTTYPE=image/png:https://joseph-priestley-house.org/wp-content/uploads/2024/07/Tour3.png
END:VEVENT
BEGIN:VEVENT
DTSTART;TZID=UTC:20240803T140000
DTEND;TZID=UTC:20240803T150000
DTSTAMP:20260421T132321
CREATED:20240731T130711Z
LAST-MODIFIED:20240802T101034Z
UID:6694-1722693600-1722697200@joseph-priestley-house.org
SUMMARY:Tour 2  (Saturday 2pm)
DESCRIPTION:Tours are offered Saturday and Sunday between the hours of 1 pm\, 2 pm\, and 3 pm \n\nAdult (12-64 years): $8.00\nSeniors\, AAA\, Veterans: $6.00\nYouth (3-11): $4.00\nEBT: $2.00\nMembers: Free\nActive Military and Immediate Family: Free\nMembers PA Heritage Foundation: Free
URL:https://joseph-priestley-house.org/event/tour-2-saturday-2pm/
CATEGORIES:tour event
ATTACH;FMTTYPE=image/png:https://joseph-priestley-house.org/wp-content/uploads/2024/07/Tour2.png
END:VEVENT
BEGIN:VEVENT
DTSTART;TZID=UTC:20240803T130000
DTEND;TZID=UTC:20240803T140000
DTSTAMP:20260421T132321
CREATED:20240731T124655Z
LAST-MODIFIED:20240802T100633Z
UID:6684-1722690000-1722693600@joseph-priestley-house.org
SUMMARY:Tour 1 (Saturday 1pm)
DESCRIPTION:Tours are offered Saturday and Sunday between the hours of 1 pm\, 2 pm\, and 3 pm \n\nAdult (12-64 years): $8.00\nSeniors\, AAA\, Veterans: $6.00\nYouth (3-11): $4.00\nEBT: $2.00\nMembers: Free\nActive Military and Immediate Family: Free\nMembers PA Heritage Foundation: Free
URL:https://joseph-priestley-house.org/event/tour-1-saturday-1pm/
CATEGORIES:tour event
ATTACH;FMTTYPE=image/png:https://joseph-priestley-house.org/wp-content/uploads/2024/05/Tour-post-2.png
END:VEVENT
BEGIN:VEVENT
DTSTART;TZID=UTC:20240803T103000
DTEND;TZID=UTC:20240803T150000
DTSTAMP:20260421T132321
CREATED:20240725T155137Z
LAST-MODIFIED:20240725T155137Z
UID:6624-1722681000-1722697200@joseph-priestley-house.org
SUMMARY:Descendant Tours
DESCRIPTION:On Saturday\, August 3 the Priestley House Museum will be hosting a visit from Priestley descendants wishing to spend a day on-site. Registration for descendants will begin at 10:30 am in the Visitors Center \nFor non-descendant visitors\, museum volunteers will be on-hand Saturday to conduct regular museum tours from 1-3 pm and the gift shop will be open for the purchase of 250th anniversary memorabilia.
URL:https://joseph-priestley-house.org/event/descendant-tours/
LOCATION:Joseph Priestley House Museum\, 472 Priestley Ave\, Northumberland\, PA\, 17857\, United States
CATEGORIES:event
ATTACH;FMTTYPE=image/png:https://joseph-priestley-house.org/wp-content/uploads/2024/07/Party-3.png
ORGANIZER;CN="Friends of Joseph Priestley House":MAILTO:jphopsmanager@gmail.com
END:VEVENT
BEGIN:VEVENT
DTSTART;TZID=UTC:20240802T180000
DTEND;TZID=UTC:20240802T210000
DTSTAMP:20260421T132321
CREATED:20240715T144458Z
LAST-MODIFIED:20240716T141958Z
UID:6540-1722621600-1722632400@joseph-priestley-house.org
SUMMARY:Celebrating 250 Years Under the Stars
DESCRIPTION:August 1\, 2024 marks the 250th Anniversary of Dr. Priestley’s discovery of oxygen\, and in honor of that auspicious event\, the Joseph Priestley House Museum is hosting a celebration!\n\n\nUnder the tent set up for the occasion\, guests will be able to enjoy food catered by Laurie Bucard of Townside Catering\, to purchase Priestley Pilsner from Pineknotter Brewery or wine from Whispering Oak\, to enjoy\, and\, if one so desires\, dance to music performed by Elegance Quartet (https://www.elegancequartet.com). The house will be open for guests to visit the newly renovated second floor Rotating Display Area\, which during the Gala Weekend Celebration\, will feature an art display by guest artist Hope Buzzelli. Registration\, including a cover charge of $5 per person\, will be required of all attendees.  Any questions\, please call the office: (570) 473-9474.
URL:https://joseph-priestley-house.org/event/celebrating-250-years-under-the-stars/
LOCATION:Joseph Priestley House Museum\, 472 Priestley Ave\, Northumberland\, PA\, 17857\, United States
CATEGORIES:event
ATTACH;FMTTYPE=image/png:https://joseph-priestley-house.org/wp-content/uploads/2024/07/Party.png
ORGANIZER;CN="Friends of Joseph Priestley House":MAILTO:jphopsmanager@gmail.com
END:VEVENT
BEGIN:VEVENT
DTSTART;TZID=UTC:20240802T000000
DTEND;TZID=UTC:20240804T000000
DTSTAMP:20260421T132321
CREATED:20240514T150818Z
LAST-MODIFIED:20240715T205146Z
UID:5113-1722556800-1722729600@joseph-priestley-house.org
SUMMARY:250th Gala Anniversary Weekend
DESCRIPTION:Come join us as we celebrate the 250th Anniversary of Joseph Priestley’s Discover of Oxygen! \n(7/24\, TBD) July Trivia Night: https://joseph-priestley-house.org/event/pineknotter-trivia-night-featuring-dr-joseph-priestley/\n(8/2) Friday Night Party Under the Stars: https://joseph-priestley-house.org/event/celebrating-250-years-under-the-stars/\n(8/4) Sunday Oxygen Day in the Garden: https://joseph-priestley-house.org/event/oxygen-day-in-the-garden-special-250th-anniversary-celebration/
URL:https://joseph-priestley-house.org/event/250th-gala-anniversary-weekend/
LOCATION:Joseph Priestley House Museum\, 472 Priestley Ave\, Northumberland\, PA\, 17857\, United States
CATEGORIES:event
ATTACH;FMTTYPE=image/png:https://joseph-priestley-house.org/wp-content/uploads/2024/05/Joseph-Priestley-Posts-35.png
ORGANIZER;CN="Friends of Joseph Priestley House":MAILTO:jphopsmanager@gmail.com
END:VEVENT
BEGIN:VEVENT
DTSTART;TZID=UTC:20240728T150000
DTEND;TZID=UTC:20240728T160000
DTSTAMP:20260421T132321
CREATED:20240520T151122Z
LAST-MODIFIED:20240722T220413Z
UID:5195-1722178800-1722182400@joseph-priestley-house.org
SUMMARY:Tour 3 (Sunday 3pm)
DESCRIPTION:Tours are offered Saturday and Sunday between the hours of 1 pm\, 2 pm\, and 3 pm \n\nAdult (12-64 years): $8.00\nSeniors\, AAA\, Veterans: $6.00\nYouth (3-11): $4.00\nEBT: $2.00\nMembers: Free\nActive Military and Immediate Family: Free\nMembers PA Heritage Foundation: Free
URL:https://joseph-priestley-house.org/event/tour3-sunday-3pm/
CATEGORIES:tour event
ATTACH;FMTTYPE=image/png:https://joseph-priestley-house.org/wp-content/uploads/2024/05/Tour-post-2.png
END:VEVENT
BEGIN:VEVENT
DTSTART;TZID=UTC:20240728T140000
DTEND;TZID=UTC:20240728T150000
DTSTAMP:20260421T132321
CREATED:20240520T152442Z
LAST-MODIFIED:20240722T220312Z
UID:5194-1722175200-1722178800@joseph-priestley-house.org
SUMMARY:Tour 2  (Sunday 2pm)
DESCRIPTION:Tours are offered Saturday and Sunday between the hours of 1 pm\, 2 pm\, and 3 pm \n\nAdult (12-64 years): $8.00\nSeniors\, AAA\, Veterans: $6.00\nYouth (3-11): $4.00\nEBT: $2.00\nMembers: Free\nActive Military and Immediate Family: Free\nMembers PA Heritage Foundation: Free
URL:https://joseph-priestley-house.org/event/tour2-sunday-2pm/
CATEGORIES:tour event
ATTACH;FMTTYPE=image/png:https://joseph-priestley-house.org/wp-content/uploads/2024/05/Tour-post-2.png
END:VEVENT
END:VCALENDAR