BEGIN:VCALENDAR
VERSION:2.0
PRODID:-//The Joseph Priestley House - ECPv6.15.15//NONSGML v1.0//EN
CALSCALE:GREGORIAN
METHOD:PUBLISH
X-ORIGINAL-URL:https://joseph-priestley-house.org
X-WR-CALDESC:Events for The Joseph Priestley House
REFRESH-INTERVAL;VALUE=DURATION:PT1H
X-Robots-Tag:noindex
X-PUBLISHED-TTL:PT1H
BEGIN:VTIMEZONE
TZID:UTC
BEGIN:STANDARD
TZOFFSETFROM:+0000
TZOFFSETTO:+0000
TZNAME:UTC
DTSTART:20220101T000000
END:STANDARD
END:VTIMEZONE
BEGIN:VEVENT
DTSTART;TZID=UTC:20240803T130000
DTEND;TZID=UTC:20240803T140000
DTSTAMP:20260421T155850
CREATED:20240731T124655Z
LAST-MODIFIED:20240802T100633Z
UID:6684-1722690000-1722693600@joseph-priestley-house.org
SUMMARY:Tour 1 (Saturday 1pm)
DESCRIPTION:Tours are offered Saturday and Sunday between the hours of 1 pm\, 2 pm\, and 3 pm \n\nAdult (12-64 years): $8.00\nSeniors\, AAA\, Veterans: $6.00\nYouth (3-11): $4.00\nEBT: $2.00\nMembers: Free\nActive Military and Immediate Family: Free\nMembers PA Heritage Foundation: Free
URL:https://joseph-priestley-house.org/event/tour-1-saturday-1pm/
CATEGORIES:tour event
ATTACH;FMTTYPE=image/png:https://joseph-priestley-house.org/wp-content/uploads/2024/05/Tour-post-2.png
END:VEVENT
BEGIN:VEVENT
DTSTART;TZID=UTC:20240803T103000
DTEND;TZID=UTC:20240803T150000
DTSTAMP:20260421T155850
CREATED:20240725T155137Z
LAST-MODIFIED:20240725T155137Z
UID:6624-1722681000-1722697200@joseph-priestley-house.org
SUMMARY:Descendant Tours
DESCRIPTION:On Saturday\, August 3 the Priestley House Museum will be hosting a visit from Priestley descendants wishing to spend a day on-site. Registration for descendants will begin at 10:30 am in the Visitors Center \nFor non-descendant visitors\, museum volunteers will be on-hand Saturday to conduct regular museum tours from 1-3 pm and the gift shop will be open for the purchase of 250th anniversary memorabilia.
URL:https://joseph-priestley-house.org/event/descendant-tours/
LOCATION:Joseph Priestley House Museum\, 472 Priestley Ave\, Northumberland\, PA\, 17857\, United States
CATEGORIES:event
ATTACH;FMTTYPE=image/png:https://joseph-priestley-house.org/wp-content/uploads/2024/07/Party-3.png
ORGANIZER;CN="Friends of Joseph Priestley House":MAILTO:jphopsmanager@gmail.com
END:VEVENT
BEGIN:VEVENT
DTSTART;TZID=UTC:20240802T180000
DTEND;TZID=UTC:20240802T210000
DTSTAMP:20260421T155850
CREATED:20240715T144458Z
LAST-MODIFIED:20240716T141958Z
UID:6540-1722621600-1722632400@joseph-priestley-house.org
SUMMARY:Celebrating 250 Years Under the Stars
DESCRIPTION:August 1\, 2024 marks the 250th Anniversary of Dr. Priestley’s discovery of oxygen\, and in honor of that auspicious event\, the Joseph Priestley House Museum is hosting a celebration!\n\n\nUnder the tent set up for the occasion\, guests will be able to enjoy food catered by Laurie Bucard of Townside Catering\, to purchase Priestley Pilsner from Pineknotter Brewery or wine from Whispering Oak\, to enjoy\, and\, if one so desires\, dance to music performed by Elegance Quartet (https://www.elegancequartet.com). The house will be open for guests to visit the newly renovated second floor Rotating Display Area\, which during the Gala Weekend Celebration\, will feature an art display by guest artist Hope Buzzelli. Registration\, including a cover charge of $5 per person\, will be required of all attendees.  Any questions\, please call the office: (570) 473-9474.
URL:https://joseph-priestley-house.org/event/celebrating-250-years-under-the-stars/
LOCATION:Joseph Priestley House Museum\, 472 Priestley Ave\, Northumberland\, PA\, 17857\, United States
CATEGORIES:event
ATTACH;FMTTYPE=image/png:https://joseph-priestley-house.org/wp-content/uploads/2024/07/Party.png
ORGANIZER;CN="Friends of Joseph Priestley House":MAILTO:jphopsmanager@gmail.com
END:VEVENT
BEGIN:VEVENT
DTSTART;TZID=UTC:20240802T000000
DTEND;TZID=UTC:20240804T000000
DTSTAMP:20260421T155850
CREATED:20240514T150818Z
LAST-MODIFIED:20240715T205146Z
UID:5113-1722556800-1722729600@joseph-priestley-house.org
SUMMARY:250th Gala Anniversary Weekend
DESCRIPTION:Come join us as we celebrate the 250th Anniversary of Joseph Priestley’s Discover of Oxygen! \n(7/24\, TBD) July Trivia Night: https://joseph-priestley-house.org/event/pineknotter-trivia-night-featuring-dr-joseph-priestley/\n(8/2) Friday Night Party Under the Stars: https://joseph-priestley-house.org/event/celebrating-250-years-under-the-stars/\n(8/4) Sunday Oxygen Day in the Garden: https://joseph-priestley-house.org/event/oxygen-day-in-the-garden-special-250th-anniversary-celebration/
URL:https://joseph-priestley-house.org/event/250th-gala-anniversary-weekend/
LOCATION:Joseph Priestley House Museum\, 472 Priestley Ave\, Northumberland\, PA\, 17857\, United States
CATEGORIES:event
ATTACH;FMTTYPE=image/png:https://joseph-priestley-house.org/wp-content/uploads/2024/05/Joseph-Priestley-Posts-35.png
ORGANIZER;CN="Friends of Joseph Priestley House":MAILTO:jphopsmanager@gmail.com
END:VEVENT
BEGIN:VEVENT
DTSTART;TZID=UTC:20240728T150000
DTEND;TZID=UTC:20240728T160000
DTSTAMP:20260421T155850
CREATED:20240520T151122Z
LAST-MODIFIED:20240722T220413Z
UID:5195-1722178800-1722182400@joseph-priestley-house.org
SUMMARY:Tour 3 (Sunday 3pm)
DESCRIPTION:Tours are offered Saturday and Sunday between the hours of 1 pm\, 2 pm\, and 3 pm \n\nAdult (12-64 years): $8.00\nSeniors\, AAA\, Veterans: $6.00\nYouth (3-11): $4.00\nEBT: $2.00\nMembers: Free\nActive Military and Immediate Family: Free\nMembers PA Heritage Foundation: Free
URL:https://joseph-priestley-house.org/event/tour3-sunday-3pm/
CATEGORIES:tour event
ATTACH;FMTTYPE=image/png:https://joseph-priestley-house.org/wp-content/uploads/2024/05/Tour-post-2.png
END:VEVENT
BEGIN:VEVENT
DTSTART;TZID=UTC:20240728T140000
DTEND;TZID=UTC:20240728T150000
DTSTAMP:20260421T155850
CREATED:20240520T152442Z
LAST-MODIFIED:20240722T220312Z
UID:5194-1722175200-1722178800@joseph-priestley-house.org
SUMMARY:Tour 2  (Sunday 2pm)
DESCRIPTION:Tours are offered Saturday and Sunday between the hours of 1 pm\, 2 pm\, and 3 pm \n\nAdult (12-64 years): $8.00\nSeniors\, AAA\, Veterans: $6.00\nYouth (3-11): $4.00\nEBT: $2.00\nMembers: Free\nActive Military and Immediate Family: Free\nMembers PA Heritage Foundation: Free
URL:https://joseph-priestley-house.org/event/tour2-sunday-2pm/
CATEGORIES:tour event
ATTACH;FMTTYPE=image/png:https://joseph-priestley-house.org/wp-content/uploads/2024/05/Tour-post-2.png
END:VEVENT
BEGIN:VEVENT
DTSTART;TZID=UTC:20240728T130000
DTEND;TZID=UTC:20240728T140000
DTSTAMP:20260421T155850
CREATED:20240520T150700Z
LAST-MODIFIED:20240722T220210Z
UID:5193-1722171600-1722175200@joseph-priestley-house.org
SUMMARY:Tour 1 (Sunday 1pm)
DESCRIPTION:Tours are offered Saturday and Sunday between the hours of 1 pm\, 2 pm\, and 3 pm \n\nAdult (12-64 years): $8.00\nSeniors\, AAA\, Veterans: $6.00\nYouth (3-11): $4.00\nEBT: $2.00\nMembers: Free\nActive Military and Immediate Family: Free\nMembers PA Heritage Foundation: Free
URL:https://joseph-priestley-house.org/event/tour1-sunday-1pm/
CATEGORIES:tour event
ATTACH;FMTTYPE=image/png:https://joseph-priestley-house.org/wp-content/uploads/2024/05/Tour-post-2.png
END:VEVENT
BEGIN:VEVENT
DTSTART;TZID=UTC:20240727T150000
DTEND;TZID=UTC:20240727T160000
DTSTAMP:20260421T155850
CREATED:20240520T150143Z
LAST-MODIFIED:20240722T215846Z
UID:5183-1722092400-1722096000@joseph-priestley-house.org
SUMMARY:Tour 3 (Saturday 3pm)
DESCRIPTION:Tours are offered Saturday and Sunday between the hours of 1 pm\, 2 pm\, and 3 pm \n\nAdult (12-64 years): $8.00\nSeniors\, AAA\, Veterans: $6.00\nYouth (3-11): $4.00\nEBT: $2.00\nMembers: Free\nActive Military and Immediate Family: Free\nMembers PA Heritage Foundation: Free
URL:https://joseph-priestley-house.org/event/tour3-saturday-3pm/
CATEGORIES:tour event
ATTACH;FMTTYPE=image/png:https://joseph-priestley-house.org/wp-content/uploads/2024/05/Tour-post-2.png
END:VEVENT
BEGIN:VEVENT
DTSTART;TZID=UTC:20240727T140000
DTEND;TZID=UTC:20240727T150000
DTSTAMP:20260421T155850
CREATED:20240520T145300Z
LAST-MODIFIED:20240722T215702Z
UID:5173-1722088800-1722092400@joseph-priestley-house.org
SUMMARY:Tour 2  (Saturday 2pm)
DESCRIPTION:Tours are offered Saturday and Sunday between the hours of 1 pm\, 2 pm\, and 3 pm \n\nAdult (12-64 years): $8.00\nSeniors\, AAA\, Veterans: $6.00\nYouth (3-11): $4.00\nEBT: $2.00\nMembers: Free\nActive Military and Immediate Family: Free\nMembers PA Heritage Foundation: Free
URL:https://joseph-priestley-house.org/event/tour2/
CATEGORIES:tour event
ATTACH;FMTTYPE=image/png:https://joseph-priestley-house.org/wp-content/uploads/2024/05/Tour-post-2.png
END:VEVENT
BEGIN:VEVENT
DTSTART;TZID=UTC:20240727T130000
DTEND;TZID=UTC:20240727T140000
DTSTAMP:20260421T155850
CREATED:20240520T133540Z
LAST-MODIFIED:20240722T215524Z
UID:5163-1722085200-1722088800@joseph-priestley-house.org
SUMMARY:Tour 1 (Saturday 1pm)
DESCRIPTION:Tours are offered Saturday and Sunday between the hours of 1 pm\, 2 pm\, and 3 pm \n\nAdult (12-64 years): $8.00\nSeniors\, AAA\, Veterans: $6.00\nYouth (3-11): $4.00\nEBT: $2.00\nMembers: Free\nActive Military and Immediate Family: Free\nMembers PA Heritage Foundation: Free
URL:https://joseph-priestley-house.org/event/tour1/
CATEGORIES:tour event
ATTACH;FMTTYPE=image/png:https://joseph-priestley-house.org/wp-content/uploads/2024/05/Tour-post-2.png
END:VEVENT
BEGIN:VEVENT
DTSTART;TZID=UTC:20240724T190000
DTEND;TZID=UTC:20240724T210000
DTSTAMP:20260421T155850
CREATED:20240715T151234Z
LAST-MODIFIED:20240719T193615Z
UID:6550-1721847600-1721854800@joseph-priestley-house.org
SUMMARY:Pineknotter Trivia Night: Featuring Dr. Joseph Priestley
DESCRIPTION:Date is finalized for July 24th! \nJoin us for a fun night of trivia featuring questions about the life of Dr. Joseph Priestley. \nThis event is being hosted by our friends at the Pineknotter Brewing Company.
URL:https://joseph-priestley-house.org/event/pineknotter-trivia-night-featuring-dr-joseph-priestley/
LOCATION:Pineknotter Brewing Company\, 254 Front St\, Northumberland\, 17857\, United States
CATEGORIES:event
ATTACH;FMTTYPE=image/png:https://joseph-priestley-house.org/wp-content/uploads/2024/07/Joseph-Priestley-Posts-46.png
ORGANIZER;CN="Friends of Joseph Priestley House":MAILTO:jphopsmanager@gmail.com
END:VEVENT
BEGIN:VEVENT
DTSTART;TZID=UTC:20240629T140000
DTEND;TZID=UTC:20240629T160000
DTSTAMP:20260421T155850
CREATED:20240429T142039Z
LAST-MODIFIED:20240624T170531Z
UID:4869-1719669600-1719676800@joseph-priestley-house.org
SUMMARY:Acting Workshop
DESCRIPTION:When: Saturdays\, June 29 & July 6\, 2024 from 2:00 – 4:00 p.m.\nWhere: Joseph Priestley House\, Northumberland\, PA\nWhat: Recreate Historical Figures\nWho: Middle School Students. Limited to 12 Students\nCost: FREE\nRegistration Link: https://forms.gle/SYAHyTsGqrSHxB7R9\nContact: Murrie Zlotziver\, Ops. Manager jphopsmanager@gmail.com
URL:https://joseph-priestley-house.org/event/acting-workshop-2/
LOCATION:Joseph Priestley House Museum\, 472 Priestley Ave\, Northumberland\, PA\, 17857\, United States
CATEGORIES:event
ATTACH;FMTTYPE=image/png:https://joseph-priestley-house.org/wp-content/uploads/2024/04/Kids-acting-workshop.png
ORGANIZER;CN="Friends of Joseph Priestley House":MAILTO:jphopsmanager@gmail.com
END:VEVENT
BEGIN:VEVENT
DTSTART;TZID=UTC:20240610T090000
DTEND;TZID=UTC:20240610T120000
DTSTAMP:20260421T155850
CREATED:20240429T141100Z
LAST-MODIFIED:20240502T145001Z
UID:4863-1718010000-1718020800@joseph-priestley-house.org
SUMMARY:History Camp
DESCRIPTION:Registration Link: https://forms.gle/LQjTjpYanyXSV9TH7 \nWhen: Mon.\, Tue.\, Wed.\, June 10\, 11\, 12\, 2024 9:00 a.m. – Noon\nWhere: Joseph Priestley House\, Northumberland\, PA\nWhat: Theme Joseph Priestley Scientist\nWho: Children Grades 1st thru 5th\nCost: FREE Contact: Jo Ann Long lenlong@ptd.net
URL:https://joseph-priestley-house.org/event/history-camp-2/
LOCATION:Joseph Priestley House Museum\, 472 Priestley Ave\, Northumberland\, PA\, 17857\, United States
CATEGORIES:event
ATTACH;FMTTYPE=image/png:https://joseph-priestley-house.org/wp-content/uploads/2024/04/birthday-event.png
ORGANIZER;CN="Jo Ann Long":MAILTO:lenlong@ptd.net
END:VEVENT
BEGIN:VEVENT
DTSTART;TZID=UTC:20240604T080000
DTEND;TZID=UTC:20240604T170000
DTSTAMP:20260421T155850
CREATED:20240531T113949Z
LAST-MODIFIED:20240531T113949Z
UID:5451-1717488000-1717520400@joseph-priestley-house.org
SUMMARY:Members PA Heritage Foundation
DESCRIPTION:Free
URL:https://joseph-priestley-house.org/event/members-pa-heritage-foundation/
LOCATION:Joseph Priestley House Museum\, 472 Priestley Ave\, Northumberland\, PA\, 17857\, United States
ORGANIZER;CN="Friends of Joseph Priestley House":MAILTO:jphopsmanager@gmail.com
END:VEVENT
BEGIN:VEVENT
DTSTART;TZID=UTC:20240518T130000
DTEND;TZID=UTC:20240518T160000
DTSTAMP:20260421T155850
CREATED:20240429T140448Z
LAST-MODIFIED:20240502T143717Z
UID:4860-1716037200-1716048000@joseph-priestley-house.org
SUMMARY:Herb & Native Plant Faire
DESCRIPTION:When: Saturday\, May 18\, 2024 from 9:00 a.m. – 4:00 p.m.\nWhere: Joseph Priestley House\, Northumberland\, PA\nWhat: Outdoor Activities\nCost: FREE\nContact: Murrie Zlotziver\, Ops. Manager jphopsmanager@gmail.com
URL:https://joseph-priestley-house.org/event/herb-native-plant-faire/
LOCATION:Joseph Priestley House Museum\, 472 Priestley Ave\, Northumberland\, PA\, 17857\, United States
CATEGORIES:event
ATTACH;FMTTYPE=image/png:https://joseph-priestley-house.org/wp-content/uploads/2024/04/herb-native-plant-faire.png
ORGANIZER;CN="Friends of Joseph Priestley House":MAILTO:jphopsmanager@gmail.com
END:VEVENT
BEGIN:VEVENT
DTSTART;TZID=UTC:20240420T130000
DTEND;TZID=UTC:20240420T150000
DTSTAMP:20260421T155850
CREATED:20240429T135813Z
LAST-MODIFIED:20240429T135813Z
UID:4857-1713618000-1713625200@joseph-priestley-house.org
SUMMARY:Earth Day
DESCRIPTION:When: Saturday\, April 20\, 2024 from 1:00 – 3:00 p.m.\nWhere: Joseph Priestley House\, Northumberland\, PA\nWhat: Outdoor Activities\nCost: FREE\nContact: Murrie Zlotziver\, Ops. Manager jphopsmanager@gmail.com
URL:https://joseph-priestley-house.org/event/earth-day/
LOCATION:Joseph Priestley House Museum\, 472 Priestley Ave\, Northumberland\, PA\, 17857\, United States
ATTACH;FMTTYPE=image/png:https://joseph-priestley-house.org/wp-content/uploads/2024/04/earth-day.png
ORGANIZER;CN="Friends of Joseph Priestley House":MAILTO:jphopsmanager@gmail.com
END:VEVENT
BEGIN:VEVENT
DTSTART;TZID=UTC:20240321T080000
DTEND;TZID=UTC:20240321T170000
DTSTAMP:20260421T155850
CREATED:20240429T135247Z
LAST-MODIFIED:20240429T135247Z
UID:4854-1711008000-1711040400@joseph-priestley-house.org
SUMMARY:Birthday Event
DESCRIPTION:
URL:https://joseph-priestley-house.org/event/birthday-event/
ATTACH;FMTTYPE=image/png:https://joseph-priestley-house.org/wp-content/uploads/2024/04/birthday-event.png
END:VEVENT
BEGIN:VEVENT
DTSTART;TZID=UTC:20240307T010000
DTEND;TZID=UTC:20240307T160000
DTSTAMP:20260421T155850
CREATED:20240307T170340Z
LAST-MODIFIED:20240307T170340Z
UID:4647-1709773200-1709827200@joseph-priestley-house.org
SUMMARY:Charter Day / Joseph Priestley’s Birthday
DESCRIPTION:Join us as we celebrate Joseph Priestley’s birthday and open for the season.  We will have tours\, demonstrations and light refreshments.  This event is FREE.
URL:https://joseph-priestley-house.org/event/charter-day-joseph-priestleys-birthday/
LOCATION:Joseph Priestley House Museum\, 472 Priestley Ave\, Northumberland\, PA\, 17857\, United States
ATTACH;FMTTYPE=image/png:https://joseph-priestley-house.org/wp-content/uploads/2024/03/Joseph-Priestley-Posts-11.png
ORGANIZER;CN="Friends of Joseph Priestley House":MAILTO:jphopsmanager@gmail.com
END:VEVENT
BEGIN:VEVENT
DTSTART;TZID=UTC:20240204T130000
DTEND;TZID=UTC:20240204T150000
DTSTAMP:20260421T155850
CREATED:20240429T134107Z
LAST-MODIFIED:20240429T134627Z
UID:4848-1707051600-1707058800@joseph-priestley-house.org
SUMMARY:Afternoon Tea\, tickets required
DESCRIPTION:Joseph and Mary Priestley invite you to an Afternoon Tea\, Sunday\, February 4th! If you didn’t receive an invitation and would like to attend our delightful event\, you are welcome to use our online RSVP form by JANUARY 24th.\n\nOnline ticket request: https://forms.gle/z32P1Thb295LYzbcA.\n\nThe Afternoon Tea is in honor of the 250th Anniversary of Joseph’s Discovery of Oxygen. Adult tickets are $35\, and children under 12 are $10. Please reach out with any questions! 570-473-9574.
URL:https://joseph-priestley-house.org/event/afternoon-tea-tickets-required/
LOCATION:Front Street Station\, 2 Front Street\, Northumberland\, PA
ATTACH;FMTTYPE=image/png:https://joseph-priestley-house.org/wp-content/uploads/2024/04/afternoon-tea-tickets-required.png
ORGANIZER;CN="Friends of Joseph Priestley House":MAILTO:jphopsmanager@gmail.com
END:VEVENT
BEGIN:VEVENT
DTSTART;TZID=UTC:20240204T093000
DTEND;TZID=UTC:20240204T220000
DTSTAMP:20260421T155850
CREATED:20240429T100611Z
LAST-MODIFIED:20240429T133538Z
UID:4828-1707039000-1707084000@joseph-priestley-house.org
SUMMARY:Joseph Priestley\, A Lunatic?
DESCRIPTION:On February 4\, from 9:30 to 10:10 be at the Joseph Priestley Chapel to learn how Priestley and eight other Lunatics fueled the fires that would ignite the Industrial Revolution in 1780-1790. The Lunar Society (Lunatics) was a group of men who met monthly on the Monday closest to the Full Moon. As Maureen McNeil says\, “These men of science and industry were drawn together by their interest in natural philosophy\, technological and industrial development and social change appropriate to these concerns. They developed concepts and techniques in science\, agriculture\, manufacturing\, mining and transport.”  You’ll also hear four selections of music that Priestley may have heard.
URL:https://joseph-priestley-house.org/event/joseph-priestley-a-lunatic/
LOCATION:Joseph Priestley Chapel\, 380 Front Street\, Northumberland\, PA\, 17857\, United States
ATTACH;FMTTYPE=image/png:https://joseph-priestley-house.org/wp-content/uploads/2024/04/joseph-priestley-lunatic.png
END:VEVENT
BEGIN:VEVENT
DTSTART;TZID=UTC:20240107T040000
DTEND;TZID=UTC:20240107T190000
DTSTAMP:20260421T155850
CREATED:20240103T152203Z
LAST-MODIFIED:20240226T145653Z
UID:4080-1704600000-1704654000@joseph-priestley-house.org
SUMMARY:Twelfth Night
DESCRIPTION:The Twelfth Night Celebration is free and open to the public. All children attending will receive a free book!\n\nTwelfth Night (also known as Epiphany Eve) is a festival that traditionally takes place on the last of the 12 days of Christmas\, marking the coming of the Epiphany. The celebration will include the customary Twelfth-Night Cake. The person that finds a bean in a slice of cake gets a crown and a person that finds a clove in a slice of cake gets a jester hat for the night. In addition to the cake other lite refreshments will be served. Traditional colonial music and Christmas carols will be provided by\, a Choral group representing the Unitarian Church\, and Fiddler Beverley Conrad.\n\nRon Blatchley as Joseph Priestley will conduct chemistry demonstrations in the Pond Building at 4:30 and 5:30. Seating is limited and tickets for each session are available in the Visitors Center.\nThe Joseph Priestley House will be open for self-guided tours with docents dressed in period costumes in each room to answer any questions. The house will be traditionally decorated with pine\, holly\, and candles.\n\nWhen guests arrive at the Visitor Center they will be escorted by lantern to the Priestley House and Pond Building.
URL:https://joseph-priestley-house.org/event/twelfth-night/
LOCATION:Joseph Priestley House Museum\, 472 Priestley Ave\, Northumberland\, PA\, 17857\, United States
ATTACH;FMTTYPE=image/png:https://joseph-priestley-house.org/wp-content/uploads/2024/01/BK-Facebook-Posts-2023-12-29T173015.721-1.png
END:VEVENT
BEGIN:VEVENT
DTSTART;TZID=UTC:20230923T130000
DTEND;TZID=UTC:20230923T160000
DTSTAMP:20260421T155850
CREATED:20230814T213406Z
LAST-MODIFIED:20231207T164143Z
UID:1512-1695474000-1695484800@joseph-priestley-house.org
SUMMARY:2023 Scout Science & Nature Day
DESCRIPTION:All Scouts Welcome (FREE EVENT)! \nCoordinator\, Ginger Aurand\, Girl Scout Leader Northumberland Troop 61236 and FJPH volunteers have\nplanned several interesting and creative activities including: a Chemistry Demonstration with our own Dr.\nPriestley\, Tour of the Historic Priestley House Museum\, Create your own Native American Sun Catcher\,\nMake your own Fizzy Water Drink\, and learn about local Forest Fauna & Flora. \nAll participating Scouts will receive a Special Patch and a Free Book on Science or Nature\nCamp registrations will be confirmed by email. \nRegister here: https://forms.gle/RdhoqVQT5S4bVA65A \nQuestions additional information contact Ginger Aurand: gingerhogg@hotmail.com \nInclement Weather Location: St. John’s Lutheran Church\, 300 Queen Street (Corner of 3rd)\, Northumberland\, PA 17857.
URL:https://joseph-priestley-house.org/event/scout-day/
LOCATION:Joseph Priestley House Museum\, 472 Priestley Ave\, Northumberland\, PA\, 17857\, United States
CATEGORIES:event
ATTACH;FMTTYPE=image/png:https://joseph-priestley-house.org/wp-content/uploads/2023/08/2023-Scouts-Day.png
ORGANIZER;CN="Friends of Joseph Priestley House":MAILTO:jphopsmanager@gmail.com
END:VEVENT
BEGIN:VEVENT
DTSTART;TZID=UTC:20230806T120000
DTEND;TZID=UTC:20230806T160000
DTSTAMP:20260421T155850
CREATED:20230408T214500Z
LAST-MODIFIED:20231207T162152Z
UID:1251-1691323200-1691337600@joseph-priestley-house.org
SUMMARY:Oxygen Day / Garden Party
DESCRIPTION:Free – Special Children’s garden activities
URL:https://joseph-priestley-house.org/event/oxygen-day-garden-party/
LOCATION:Joseph Priestley House Museum\, 472 Priestley Ave\, Northumberland\, PA\, 17857\, United States
END:VEVENT
BEGIN:VEVENT
DTSTART;TZID=UTC:20230726T090000
DTEND;TZID=UTC:20230726T120000
DTSTAMP:20260421T155850
CREATED:20230408T214204Z
LAST-MODIFIED:20230408T214204Z
UID:1248-1690362000-1690372800@joseph-priestley-house.org
SUMMARY:History Camp
DESCRIPTION:Students in grades 1-6 are invited to our summer history camp.Â  This years theme – Life and Times of Joseph Priestley.Â  Speakers\, crafts\, games and snack. \nWednesday – Friday\, July 26\,27 and 28.Â  Â 9 AM to 12 Noon
URL:https://joseph-priestley-house.org/event/history-camp/
LOCATION:Joseph Priestley House Museum\, 472 Priestley Ave\, Northumberland\, PA\, 17857\, United States
END:VEVENT
BEGIN:VEVENT
DTSTART;TZID=UTC:20230715T140000
DTEND;TZID=UTC:20230715T160000
DTSTAMP:20260421T155850
CREATED:20230408T213841Z
LAST-MODIFIED:20230408T213841Z
UID:1243-1689429600-1689436800@joseph-priestley-house.org
SUMMARY:Acting Workshop
DESCRIPTION:Students ages (8-12) will work with Laurie McCants\, cofounder of Bloomsburg Theater Ensemble.Â  Â Actors will choose a historical figure\, research their life\, write a script\, and re-enact them thrillingly!Â  Â Two date event – July 15 and 22.
URL:https://joseph-priestley-house.org/event/acting-workshop/
END:VEVENT
BEGIN:VEVENT
DTSTART;TZID=UTC:20230524T190000
DTEND;TZID=UTC:20230524T203000
DTSTAMP:20260421T155850
CREATED:20230423T222940Z
LAST-MODIFIED:20230423T223315Z
UID:1268-1684954800-1684960200@joseph-priestley-house.org
SUMMARY:Music on the Lawn
DESCRIPTION:Bring your Lawn Chairs and Blankets and join us for Music on the Lawn as we kick off the season with MusiCraft playing Irish Folk. \nInclement weather venue: Unitarian Universalist Church\, 265 Point Township Dr.\, Northumberland \n 
URL:https://joseph-priestley-house.org/event/music-on-the-lawn/
LOCATION:Joseph Priestley House Museum\, 472 Priestley Ave\, Northumberland\, PA\, 17857\, United States
ORGANIZER;CN="Friends of Joseph Priestley House":MAILTO:jphopsmanager@gmail.com
END:VEVENT
BEGIN:VEVENT
DTSTART;TZID=UTC:20230520T090000
DTEND;TZID=UTC:20230520T160000
DTSTAMP:20260421T155850
CREATED:20230310T002853Z
LAST-MODIFIED:20230312T160338Z
UID:1176-1684573200-1684598400@joseph-priestley-house.org
SUMMARY:Herb and Native Plant Faire
DESCRIPTION:As part ofÂ Remake Learning Days\, theÂ JosephÂ Priestley House museum (472 Priestly Ave\, Northumberland PA) is hosting a “Native and Herb Faire” on May 20th from 9 AM to 4 PM.Â  The Master Gardeners from Northumberland and Montour counties will be participating by having an “Ask the Master Gardener” Booth\, providing children’sÂ  Â  Â  Â  activities\, and giving presentations on beginningÂ gardening and planting natives.Â  Besides the Master Gardener programming\, there will be plant and plant product vendors\, food wagons\, and heirloomÂ plants and vegetables fromÂ Landis Valley museumÂ heirloom seed projects.Â  If you would like to participate or haveÂ any questions\, contact Colleen Epler-Ruths (cmeruths@gmail.com) orÂ Murrie Zlotziver (jphopsmanager@gmail.com).
URL:https://joseph-priestley-house.org/event/herb-and-native-plant-faire/
LOCATION:Joseph Priestley House Museum\, 472 Priestley Ave\, Northumberland\, PA\, 17857\, United States
END:VEVENT
BEGIN:VEVENT
DTSTART;TZID=UTC:20230422T130000
DTEND;TZID=UTC:20230422T150000
DTSTAMP:20260421T155850
CREATED:20230403T222733Z
LAST-MODIFIED:20230408T211327Z
UID:1227-1682168400-1682175600@joseph-priestley-house.org
SUMMARY:Earth Day with Ned Smith Center for Nature and Art
DESCRIPTION:Free.Â  Come create your own nature book.Â  Â Ages 8-13.Â  Â All participants receive a free book on science or nature.
URL:https://joseph-priestley-house.org/event/earth-day-with-ned-smith-center/
LOCATION:Joseph Priestley House Museum\, 472 Priestley Ave\, Northumberland\, PA\, 17857\, United States
END:VEVENT
BEGIN:VEVENT
DTSTART;TZID=UTC:20230312T130000
DTEND;TZID=UTC:20230312T160000
DTSTAMP:20260421T155850
CREATED:20230309T201335Z
LAST-MODIFIED:20230309T202711Z
UID:1165-1678626000-1678636800@joseph-priestley-house.org
SUMMARY:Joseph Priestley's & Pennsylvania's Birthdays
DESCRIPTION:Come celebrate the Joseph Priestley House season opening. Self-guided tours with docents in period costumes and everyone’s favorite Joseph Priestley\, Ron Blatchley\,\nrecreating Priestley’s chemical experiments. Enjoy lite refreshments and listen to fiddler\, Beverley Conrad. Free children’s books on science and history to kids accompanied by an adult.
URL:https://joseph-priestley-house.org/event/joseph-priestleys-pennsylvanias-birthdays/
LOCATION:Joseph Priestley House Museum\, 472 Priestley Ave\, Northumberland\, PA\, 17857\, United States
END:VEVENT
END:VCALENDAR