BEGIN:VCALENDAR
VERSION:2.0
PRODID:-//The Joseph Priestley House - ECPv6.15.15//NONSGML v1.0//EN
CALSCALE:GREGORIAN
METHOD:PUBLISH
X-WR-CALNAME:The Joseph Priestley House
X-ORIGINAL-URL:https://joseph-priestley-house.org
X-WR-CALDESC:Events for The Joseph Priestley House
REFRESH-INTERVAL;VALUE=DURATION:PT1H
X-Robots-Tag:noindex
X-PUBLISHED-TTL:PT1H
BEGIN:VTIMEZONE
TZID:America/New_York
BEGIN:DAYLIGHT
TZOFFSETFROM:-0500
TZOFFSETTO:-0400
TZNAME:EDT
DTSTART:20230312T070000
END:DAYLIGHT
BEGIN:STANDARD
TZOFFSETFROM:-0400
TZOFFSETTO:-0500
TZNAME:EST
DTSTART:20231105T060000
END:STANDARD
BEGIN:DAYLIGHT
TZOFFSETFROM:-0500
TZOFFSETTO:-0400
TZNAME:EDT
DTSTART:20240310T070000
END:DAYLIGHT
BEGIN:STANDARD
TZOFFSETFROM:-0400
TZOFFSETTO:-0500
TZNAME:EST
DTSTART:20241103T060000
END:STANDARD
BEGIN:DAYLIGHT
TZOFFSETFROM:-0500
TZOFFSETTO:-0400
TZNAME:EDT
DTSTART:20250309T070000
END:DAYLIGHT
BEGIN:STANDARD
TZOFFSETFROM:-0400
TZOFFSETTO:-0500
TZNAME:EST
DTSTART:20251102T060000
END:STANDARD
END:VTIMEZONE
BEGIN:VEVENT
DTSTART;TZID=America/New_York:20241103T130000
DTEND;TZID=America/New_York:20241103T140000
DTSTAMP:20260421T071152
CREATED:20241029T054949Z
LAST-MODIFIED:20241029T054949Z
UID:7943-1730638800-1730642400@joseph-priestley-house.org
SUMMARY:Tour 1 (Sunday 1pm)
DESCRIPTION:Tours are offered Saturday and Sunday between the hours of 1 pm\, 2 pm\, and 3 pm \n\nAdult (12-64 years): $8.00\nSeniors\, AAA\, Veterans: $6.00\nYouth (3-11): $4.00\nEBT: $2.00\nMembers: Free\nActive Military and Immediate Family: Free\nMembers PA Heritage Foundation: Free
URL:https://joseph-priestley-house.org/event/tour-1-sunday-1pm-15/
CATEGORIES:event
ATTACH;FMTTYPE=image/png:https://joseph-priestley-house.org/wp-content/uploads/2024/05/Tour-post-2.png
END:VEVENT
END:VCALENDAR