BEGIN:VCALENDAR
VERSION:2.0
PRODID:-//The Joseph Priestley House - ECPv6.15.15//NONSGML v1.0//EN
CALSCALE:GREGORIAN
METHOD:PUBLISH
X-WR-CALNAME:The Joseph Priestley House
X-ORIGINAL-URL:https://joseph-priestley-house.org
X-WR-CALDESC:Events for The Joseph Priestley House
REFRESH-INTERVAL;VALUE=DURATION:PT1H
X-Robots-Tag:noindex
X-PUBLISHED-TTL:PT1H
BEGIN:VTIMEZONE
TZID:UTC
BEGIN:STANDARD
TZOFFSETFROM:+0000
TZOFFSETTO:+0000
TZNAME:UTC
DTSTART:20230101T000000
END:STANDARD
END:VTIMEZONE
BEGIN:VEVENT
DTSTART;TZID=UTC:20240804T113000
DTEND;TZID=UTC:20240804T160000
DTSTAMP:20260421T155230
CREATED:20240715T150209Z
LAST-MODIFIED:20240716T143157Z
UID:6547-1722771000-1722787200@joseph-priestley-house.org
SUMMARY:Oxygen Day in the Garden: Special 250th Anniversary Celebration!
DESCRIPTION:This is a FREE event\, and Kid-centered outdoor activities will begin at 11:30am with light refreshments.\n\nOn Sunday the museum will host its annual Oxygen Day Garden Party. The museum will open for tours beginning at 1 pm\, with special indoor music in the front room (across from the library) provided by Fred Hooper\, piano and Broderick Lesher\, violin from 1:30-3:30 pm. On the grounds\, visitors can interact with a Brewmeister\, who demonstrates the brewing of beer as it would have been done during Priestley’s time\, and listen to the music of fiddler Beverley Conrad. At 1:30 pm and again at 3:30 pm in the Pond Building\, Dr. Priestley\, portrayed by Ron Blatchley\, will demonstrate science experiments using equipment common during Priestley’s lifetime. A tribute to the American Chemical Society and special recognition of Rory Arne Olofson\, Phd retired professor of Chemistry\, Penn State University. There is no charge for Sunday’s events\, although anyone wishing to attend the science demonstrations must get tickets in the Visitors Center\, because seating is limited.
URL:https://joseph-priestley-house.org/event/oxygen-day-in-the-garden-special-250th-anniversary-celebration/
LOCATION:Joseph Priestley House Museum\, 472 Priestley Ave\, Northumberland\, PA\, 17857\, United States
CATEGORIES:event
ATTACH;FMTTYPE=image/png:https://joseph-priestley-house.org/wp-content/uploads/2024/07/Oxygen-Day-4.png
ORGANIZER;CN="Friends of Joseph Priestley House":MAILTO:jphopsmanager@gmail.com
END:VEVENT
END:VCALENDAR