BEGIN:VCALENDAR
VERSION:2.0
PRODID:-//The Joseph Priestley House - ECPv6.15.15//NONSGML v1.0//EN
CALSCALE:GREGORIAN
METHOD:PUBLISH
X-WR-CALNAME:The Joseph Priestley House
X-ORIGINAL-URL:https://joseph-priestley-house.org
X-WR-CALDESC:Events for The Joseph Priestley House
REFRESH-INTERVAL;VALUE=DURATION:PT1H
X-Robots-Tag:noindex
X-PUBLISHED-TTL:PT1H
BEGIN:VTIMEZONE
TZID:UTC
BEGIN:STANDARD
TZOFFSETFROM:+0000
TZOFFSETTO:+0000
TZNAME:UTC
DTSTART:20230101T000000
END:STANDARD
END:VTIMEZONE
BEGIN:VEVENT
DTSTART;TZID=UTC:20240204T093000
DTEND;TZID=UTC:20240204T220000
DTSTAMP:20260421T194536
CREATED:20240429T100611Z
LAST-MODIFIED:20240429T133538Z
UID:4828-1707039000-1707084000@joseph-priestley-house.org
SUMMARY:Joseph Priestley\, A Lunatic?
DESCRIPTION:On February 4\, from 9:30 to 10:10 be at the Joseph Priestley Chapel to learn how Priestley and eight other Lunatics fueled the fires that would ignite the Industrial Revolution in 1780-1790. The Lunar Society (Lunatics) was a group of men who met monthly on the Monday closest to the Full Moon. As Maureen McNeil says\, “These men of science and industry were drawn together by their interest in natural philosophy\, technological and industrial development and social change appropriate to these concerns. They developed concepts and techniques in science\, agriculture\, manufacturing\, mining and transport.”  You’ll also hear four selections of music that Priestley may have heard.
URL:https://joseph-priestley-house.org/event/joseph-priestley-a-lunatic/
LOCATION:Joseph Priestley Chapel\, 380 Front Street\, Northumberland\, PA\, 17857\, United States
ATTACH;FMTTYPE=image/png:https://joseph-priestley-house.org/wp-content/uploads/2024/04/joseph-priestley-lunatic.png
END:VEVENT
END:VCALENDAR