BEGIN:VCALENDAR
VERSION:2.0
PRODID:-//The Joseph Priestley House - ECPv6.15.15//NONSGML v1.0//EN
CALSCALE:GREGORIAN
METHOD:PUBLISH
X-WR-CALNAME:The Joseph Priestley House
X-ORIGINAL-URL:https://joseph-priestley-house.org
X-WR-CALDESC:Events for The Joseph Priestley House
REFRESH-INTERVAL;VALUE=DURATION:PT1H
X-Robots-Tag:noindex
X-PUBLISHED-TTL:PT1H
BEGIN:VTIMEZONE
TZID:America/New_York
BEGIN:DAYLIGHT
TZOFFSETFROM:-0500
TZOFFSETTO:-0400
TZNAME:EDT
DTSTART:20240310T070000
END:DAYLIGHT
BEGIN:STANDARD
TZOFFSETFROM:-0400
TZOFFSETTO:-0500
TZNAME:EST
DTSTART:20241103T060000
END:STANDARD
BEGIN:DAYLIGHT
TZOFFSETFROM:-0500
TZOFFSETTO:-0400
TZNAME:EDT
DTSTART:20250309T070000
END:DAYLIGHT
BEGIN:STANDARD
TZOFFSETFROM:-0400
TZOFFSETTO:-0500
TZNAME:EST
DTSTART:20251102T060000
END:STANDARD
BEGIN:DAYLIGHT
TZOFFSETFROM:-0500
TZOFFSETTO:-0400
TZNAME:EDT
DTSTART:20260308T070000
END:DAYLIGHT
BEGIN:STANDARD
TZOFFSETFROM:-0400
TZOFFSETTO:-0500
TZNAME:EST
DTSTART:20261101T060000
END:STANDARD
END:VTIMEZONE
BEGIN:VEVENT
DTSTART;TZID=America/New_York:20250609T090000
DTEND;TZID=America/New_York:20250609T120000
DTSTAMP:20260423T110918
CREATED:20250123T111312Z
LAST-MODIFIED:20250124T111035Z
UID:8634-1749459600-1749470400@joseph-priestley-house.org
SUMMARY:History Camp
DESCRIPTION:Note\, this camp runs Monday\, Tuesday and Wednesday (June 9th-11th) from 9am to 12pm.  It is a FREE summer camp where children can learn about Joseph Priestley’s life in Northumberland.  We are so excited to be able to offer this summer experience!\n\nAll children going in to grades 1st through 5th for the 2025/2026 school year are eligible\, and everyone will receive a free book.\n\nPlease complete our REGISTRATION information below and any questions\, please contact Jo Ann Long: lenlong@ptd.net
URL:https://joseph-priestley-house.org/event/history-camp-3/
LOCATION:Joseph Priestley House Museum\, 472 Priestley Ave\, Northumberland\, PA\, 17857\, United States
CATEGORIES:event
ATTACH;FMTTYPE=image/jpeg:https://joseph-priestley-house.org/wp-content/uploads/2025/01/History-camp-25-1.jpg
ORGANIZER;CN="Friends of Joseph Priestley House":MAILTO:jphopsmanager@gmail.com
END:VEVENT
END:VCALENDAR