BEGIN:VCALENDAR
VERSION:2.0
PRODID:-//The Joseph Priestley House - ECPv6.15.15//NONSGML v1.0//EN
CALSCALE:GREGORIAN
METHOD:PUBLISH
X-WR-CALNAME:The Joseph Priestley House
X-ORIGINAL-URL:https://joseph-priestley-house.org
X-WR-CALDESC:Events for The Joseph Priestley House
REFRESH-INTERVAL;VALUE=DURATION:PT1H
X-Robots-Tag:noindex
X-PUBLISHED-TTL:PT1H
BEGIN:VTIMEZONE
TZID:UTC
BEGIN:STANDARD
TZOFFSETFROM:+0000
TZOFFSETTO:+0000
TZNAME:UTC
DTSTART:20230101T000000
END:STANDARD
END:VTIMEZONE
BEGIN:VEVENT
DTSTART;TZID=UTC:20240629T140000
DTEND;TZID=UTC:20240629T160000
DTSTAMP:20260421T173048
CREATED:20240429T142039Z
LAST-MODIFIED:20240624T170531Z
UID:4869-1719669600-1719676800@joseph-priestley-house.org
SUMMARY:Acting Workshop
DESCRIPTION:When: Saturdays\, June 29 & July 6\, 2024 from 2:00 – 4:00 p.m.\nWhere: Joseph Priestley House\, Northumberland\, PA\nWhat: Recreate Historical Figures\nWho: Middle School Students. Limited to 12 Students\nCost: FREE\nRegistration Link: https://forms.gle/SYAHyTsGqrSHxB7R9\nContact: Murrie Zlotziver\, Ops. Manager jphopsmanager@gmail.com
URL:https://joseph-priestley-house.org/event/acting-workshop-2/
LOCATION:Joseph Priestley House Museum\, 472 Priestley Ave\, Northumberland\, PA\, 17857\, United States
CATEGORIES:event
ATTACH;FMTTYPE=image/png:https://joseph-priestley-house.org/wp-content/uploads/2024/04/Kids-acting-workshop.png
ORGANIZER;CN="Friends of Joseph Priestley House":MAILTO:jphopsmanager@gmail.com
END:VEVENT
END:VCALENDAR